BEGIN:VCALENDAR
VERSION:2.0
PRODID:-//Akta-Rez webgenerator//NONSGML v1.0//EN
BEGIN:VEVENT
DTSTART:20260408T210000
DTEND:20260408T220000
SUMMARY:(F) 1. kolo, Akta-Rez - Konflikt FC, ASTR2
END:VEVENT
BEGIN:VEVENT
DTSTART:20260415T190000
DTEND:20260415T200000
SUMMARY:(F) 2. kolo, Sokol Krhanice TJ - Akta-Rez, HAJE2
END:VEVENT
BEGIN:VEVENT
DTSTART:20260421T190000
DTEND:20260421T200000
SUMMARY:(F) 3. kolo, Akta-Rez - TJ Bohemians Praha B, ASTR2
END:VEVENT
BEGIN:VEVENT
DTSTART:20260429T200000
DTEND:20260429T210000
SUMMARY:(F) 4. kolo, Jemné Dřevo Praha B - Akta-Rez, HAJE1
END:VEVENT
BEGIN:VEVENT
DTSTART:20260514T203000
DTEND:20260514T213000
SUMMARY:(F) 5. kolo, Akta-Rez - Kodymka Bumble bees, ASTR2
END:VEVENT
BEGIN:VEVENT
DTSTART:20260520T190000
DTEND:20260520T200000
SUMMARY:(F) 6. kolo, Anbesorry - Akta-Rez, HAJE2
END:VEVENT
BEGIN:VEVENT
DTSTART:20260527T190000
DTEND:20260527T200000
SUMMARY:(F) 7. kolo, Akta-Rez - ČP Pankrác, HAJE2
END:VEVENT
BEGIN:VEVENT
DTSTART:20260603T200000
DTEND:20260603T210000
SUMMARY:(F) 8. kolo, Ičy-Skrečy - Akta-Rez, HAJE1
END:VEVENT
BEGIN:VEVENT
DTSTART:20260610T190000
DTEND:20260610T200000
SUMMARY:(F) 9. kolo, Akta-Rez - Wizzards SO Praha 10 C, HAJE1
END:VEVENT
BEGIN:VEVENT
DTSTART:20260429T210000
DTEND:20260429T220000
SUMMARY:(F) pískání, HAJE1
END:VEVENT
BEGIN:VEVENT
DTSTART:20260514T193000
DTEND:20260514T203000
SUMMARY:(F) pískání, ASTR2
END:VEVENT
BEGIN:VEVENT
DTSTART:20260520T200000
DTEND:20260520T210000
SUMMARY:(F) pískání, HAJE2
END:VEVENT
BEGIN:VEVENT
DTSTART:20260527T200000
DTEND:20260527T210000
SUMMARY:(F) pískání, HAJE2
END:VEVENT
BEGIN:VEVENT
DTSTART:20260610T200000
DTEND:20260610T210000
SUMMARY:(F) pískání, HAJE1
END:VEVENT
END:VCALENDAR