BEGIN:VCALENDAR
VERSION:2.0
PRODID:-//Akta-Rez webgenerator//NONSGML v1.0//EN
BEGIN:VEVENT
DTSTART:20260315T160000
DTEND:20260315T170000
SUMMARY:(HL) 1. kolo, Akta-Devils of Zderaz - Tým Jakuba Harapáta, HOSTI
END:VEVENT
BEGIN:VEVENT
DTSTART:20260329T194500
DTEND:20260329T204500
SUMMARY:(HL) 3. kolo, Power WCC - Akta-Devils of Zderaz, MIKU1
END:VEVENT
BEGIN:VEVENT
DTSTART:20260410T181500
DTEND:20260410T191500
SUMMARY:(HL) 4. kolo, Akta-Devils of Zderaz - Callida CS, HOSTI
END:VEVENT
BEGIN:VEVENT
DTSTART:20260419T194500
DTEND:20260419T204500
SUMMARY:(HL) 5. kolo, Sturm JM - Akta-Devils of Zderaz, MIKU2
END:VEVENT
BEGIN:VEVENT
DTSTART:20260426T184500
DTEND:20260426T194500
SUMMARY:(HL) 6. kolo, Akta-Devils of Zderaz - SoClose United, P2
END:VEVENT
BEGIN:VEVENT
DTSTART:20260517T184500
DTEND:20260517T194500
SUMMARY:(HL) 7. kolo, Well Done - Akta-Devils of Zderaz, P1
END:VEVENT
BEGIN:VEVENT
DTSTART:20260522T181500
DTEND:20260522T191500
SUMMARY:(HL) 8. kolo, Akta-Devils of Zderaz - Bamboo FS, HOSTI
END:VEVENT
BEGIN:VEVENT
DTSTART:20260529T181500
DTEND:20260529T191500
SUMMARY:(HL) 9. kolo, Éro SK - Akta-Devils of Zderaz, HOSTI
END:VEVENT
BEGIN:VEVENT
DTSTART:20260605T181500
DTEND:20260605T191500
SUMMARY:(HL) 10. kolo, Akta-Devils of Zderaz - Rapid Libeň, HOSTI
END:VEVENT
BEGIN:VEVENT
DTSTART:20260612T181500
DTEND:20260612T191500
SUMMARY:(HL) 2. kolo, Akta-Devils of Zderaz - AC Tylen, HOSTI
END:VEVENT
BEGIN:VEVENT
DTSTART:20260621T183000
DTEND:20260621T193000
SUMMARY:(HL) 11. kolo, Vocasuna CA - Akta-Devils of Zderaz, HOSTI
END:VEVENT
END:VCALENDAR